BEGIN:VCALENDAR
VERSION:2.0
PRODID:-//Motherland Events Center - ECPv6.15.20//NONSGML v1.0//EN
CALSCALE:GREGORIAN
METHOD:PUBLISH
X-ORIGINAL-URL:https://motherland-gambia.com
X-WR-CALDESC:Events for Motherland Events Center
REFRESH-INTERVAL;VALUE=DURATION:PT1H
X-Robots-Tag:noindex
X-PUBLISHED-TTL:PT1H
BEGIN:VTIMEZONE
TZID:Africa/Banjul
BEGIN:STANDARD
TZOFFSETFROM:+0000
TZOFFSETTO:+0000
TZNAME:GMT
DTSTART:20250101T000000
END:STANDARD
END:VTIMEZONE
BEGIN:VEVENT
DTSTART;TZID=Africa/Banjul:20260102T200000
DTEND;TZID=Africa/Banjul:20260103T053000
DTSTAMP:20260420T142719
CREATED:20251225T152933Z
LAST-MODIFIED:20251230T131622Z
UID:5756-1767384000-1767418200@motherland-gambia.com
SUMMARY:JAMBARR – THE CONCERT 2026
DESCRIPTION:An unforgettable night of raw talent\, rhythm\, and real vibes \nFlight Mode Entertainment in collaboration with Motherland Night Club proudly presents JANDARR: The Concert\, a powerful live performance headlined by the sensational KILLA ACE — an artist known for energy\, authenticity\, and lyrical fire. \n📅 Date: Friday\, January 2nd\n📍 Venue: Motherland Senegambia\n🎟 Tickets:\n• Regular: D300\n• VIP: D500 \nPrepare yourself for a night where music speaks louder than words. From hard-hitting anthems to crowd-moving performances\, this concert promises top-tier sound\, an electric atmosphere\, and a crowd that lives for the culture. Whether you’re a die-hard fan or just looking to start the year with unforgettable vibes\, this is the place to be. \n✨ What to expect:\n🔥 A thrilling live performance by Killa Ace\n🔥 Premium sound & lighting experience\n🔥 A high-energy crowd at Senegambia’s finest venue\n🔥 Pure entertainment\, nonstop vibes\, and real connection \n📞 Tickets & Info:\n2669666 | 6269666 | 5035444 \nDon’t hear about it later — be there when it happens.\nPull up\, feel the energy\, and witness JANDARR: The Concert live at Motherland. \n#JandarrTheConcert #KillaAceLive #MotherlandSenegambia #FlightModeEnt #GambiaMusic #LiveConcert #JanuaryVibes #AfricanMusic #SenegambiaNights
URL:https://motherland-gambia.com/event/jandarr-the-concert-2026/
LOCATION:Motherland\, Motherland\, C7QH+Q5G\, Serrekunda\, 00000\, Gambia
CATEGORIES:afrobeat,Amapiano,clubbing,concert,Culture,dancehall,December,gambino,Hip-Hop,International,night party,party
ATTACH;FMTTYPE=image/jpeg:https://motherland-gambia.com/wp-content/uploads/2025/12/Photo-from-Modou-Lamin-Age-Almusaf-Sowe-13.jpg
END:VEVENT
BEGIN:VEVENT
DTSTART;TZID=Africa/Banjul:20260123T200000
DTEND;TZID=Africa/Banjul:20260124T053000
DTSTAMP:20260420T142719
CREATED:20251230T123532Z
LAST-MODIFIED:20251230T131726Z
UID:5768-1769198400-1769232600@motherland-gambia.com
SUMMARY:THE NIGHT OF THE GREATEST 2026
DESCRIPTION:Get ready for an unforgettable evening of culture\, rhythm\, and pure live performance as Motherland Senegambia presents GUDI — starring the legendary Jali Madi alongside the dynamic AK E-Nyassi\, backed by a full live band. \n📅 Date: Friday\, 23rd January 2026\n📍 Venue: Motherland\, Senegambia (after GTS Bar) \nThis is more than a concert — it’s a celebration of musical excellence\, storytelling\, and stage mastery. Expect soulful vocals\, powerful instrumentals\, and a high-energy atmosphere as two outstanding performers bring tradition and modern sound together on one stage. \n✨ What to expect:\n🎤 Live band performance\n🎶 Cultural fusion & timeless hits\n🔥 Premium sound\, lights & ambiance\n🍹 Great vibes at Senegambia’s favorite nightlife spot \nMark your calendar\, gather your crew\, and prepare for The Night of the Greatest — where music lives\, culture shines\, and memories are made.
URL:https://motherland-gambia.com/event/the-night-of-the-greatest-2026/
LOCATION:Motherland\, Motherland\, C7QH+Q5G\, Serrekunda\, 00000\, Gambia
CATEGORIES:afro,afrobeat,Amapiano,concert,Culture,gambino,International,night party,party,VIP Saturday
ATTACH;FMTTYPE=image/jpeg:https://motherland-gambia.com/wp-content/uploads/2025/12/Photo-from-Modou-Lamin-Age-Almusaf-Sowe-17.jpg
END:VEVENT
END:VCALENDAR