BEGIN:VCALENDAR
VERSION:2.0
PRODID:-//Motherland Events Center - ECPv6.15.20//NONSGML v1.0//EN
CALSCALE:GREGORIAN
METHOD:PUBLISH
X-WR-CALNAME:Motherland Events Center
X-ORIGINAL-URL:https://motherland-gambia.com
X-WR-CALDESC:Events for Motherland Events Center
REFRESH-INTERVAL;VALUE=DURATION:PT1H
X-Robots-Tag:noindex
X-PUBLISHED-TTL:PT1H
BEGIN:VTIMEZONE
TZID:Africa/Banjul
BEGIN:STANDARD
TZOFFSETFROM:+0000
TZOFFSETTO:+0000
TZNAME:GMT
DTSTART:20240101T000000
END:STANDARD
END:VTIMEZONE
BEGIN:VEVENT
DTSTART;TZID=Africa/Banjul:20251211T220000
DTEND;TZID=Africa/Banjul:20251212T060000
DTSTAMP:20260421T010332
CREATED:20250711T204343Z
LAST-MODIFIED:20251223T133008Z
UID:5616-1765490400-1765519200@motherland-gambia.com
SUMMARY:Rumble in The Jungle
DESCRIPTION:-Sound Clash in  The Gambia\n7 of the biggest sound systems from around the world competing for belts in the Gambia.\nEarly Dub Plate Juggling: Infinity Studio\, Legal Sound Ent\, Vibes Alone Sound\, African Light Sound\, Afriganluu Sound PA from the UK Sound\, Sparky Rugged\, Dan I\, Ragga G + Gambian Artist
URL:https://motherland-gambia.com/event/rumble-in-the-jungle-sound-clash-in-gambia/
LOCATION:Motherland\, Motherland\, C7QH+Q5G\, Serrekunda\, 00000\, Gambia
CATEGORIES:concert,December,International,Sound clash
ATTACH;FMTTYPE=image/jpeg:https://motherland-gambia.com/wp-content/uploads/2025/07/rumble.jpeg
END:VEVENT
BEGIN:VEVENT
DTSTART;TZID=Africa/Banjul:20251221T220000
DTEND;TZID=Africa/Banjul:20251222T053000
DTSTAMP:20260421T010332
CREATED:20251222T163407Z
LAST-MODIFIED:20251223T133008Z
UID:5688-1766354400-1766381400@motherland-gambia.com
SUMMARY:Drippers Night Event by Da Boss Movement
DESCRIPTION:Drippers Night\, organized by the Boss Movement\, was successfully held at the Motherland Event Centre in The Gambia\, bringing together music lovers\, creatives\, and nightlife enthusiasts for an energetic and memorable experience. The event featured thrilling live performances\, DJ sets\, and a vibrant atmosphere that kept the crowd entertained throughout the night. With colorful lights\, stylish fashion\, and a strong turnout\, Drippers Night celebrated youth culture\, entertainment\, and urban lifestyle. \nThe Motherland Event Centre came alive as guests danced\, socialized\, and enjoyed the unique vibe that defined the night. Overall\, the event stood out as a lively social gathering that showcased The Gambia’s growing nightlife and creative scene\, leaving attendees eagerly anticipating the next edition.
URL:https://motherland-gambia.com/event/drippers-night-event-by-da-boss-movement/
LOCATION:Motherland\, Motherland\, C7QH+Q5G\, Serrekunda\, 00000\, Gambia
CATEGORIES:afrobeat,Amapiano,clubbing,concert,dancehall,December,Hip-Hop,International,party
ATTACH;FMTTYPE=image/jpeg:https://motherland-gambia.com/wp-content/uploads/2025/12/Photo-from-Modou-Lamin-Age-Almusaf-Sowe-4.jpg
END:VEVENT
BEGIN:VEVENT
DTSTART;TZID=Africa/Banjul:20251225T000000
DTEND;TZID=Africa/Banjul:20251226T050000
DTSTAMP:20260421T010332
CREATED:20251222T153722Z
LAST-MODIFIED:20251223T133736Z
UID:5685-1766620800-1766725200@motherland-gambia.com
SUMMARY:Outlawz Night 3.0
DESCRIPTION:K-Zone Never Lacking production presents the Outlawz Night 3.0 at Motherland Event Centre on 25th December 2025. It’s more than a Christmas day- it is a night of entertainment and fun. Come and witness greatness at its core.
URL:https://motherland-gambia.com/event/outlawz-night-3-0/
LOCATION:Motherland\, Motherland\, C7QH+Q5G\, Serrekunda\, 00000\, Gambia
CATEGORIES:clubbing,concert,December,Hip-Hop,International,night party,party,VIP Saturday
ATTACH;FMTTYPE=image/jpeg:https://motherland-gambia.com/wp-content/uploads/2025/12/Photo-from-Modou-Lamin-Age-Almusaf-Sowe-2.jpg
END:VEVENT
BEGIN:VEVENT
DTSTART;TZID=Africa/Banjul:20251228T200000
DTEND;TZID=Africa/Banjul:20251229T053000
DTSTAMP:20260421T010332
CREATED:20251222T164516Z
LAST-MODIFIED:20251223T133720Z
UID:5692-1766952000-1766986200@motherland-gambia.com
SUMMARY:Hunting Carnival with Face Mask 2.0
DESCRIPTION:🎭🔥 HUNTING CARNIVAL with Face Mask 2.0 🔥🎭\nIt’s a Kotu–Kunda thing! \nGet ready for a night of mystery\, culture\, and electrifying entertainment at the Motherland Event Centre\, Senegambia (after GTTS). The Hunting Carnival with Face Mask 2.0 brings together tradition and modern nightlife in a colorful carnival atmosphere filled with masked elegance\, cultural displays\, and high-energy vibes. \n🎧 Hosted by DJ Konshenz\n✨ Featuring Gambian finest artists\n🎶 Music • Culture • Dance • Masks • Fashion \nCome dressed to impress\, wear your face mask\, and be part of an unforgettable carnival experience that celebrates heritage\, creativity\, and nightlife. \n📍 Venue: Motherland Event Centre\n📅 Date: 28th December\n🎟️ Gate\, VIP & Advance tickets available \nThe wait is over 🔥 Don’t miss it!
URL:https://motherland-gambia.com/event/hunting-carnival-with-face-mask-2-0/
LOCATION:Motherland\, Motherland\, C7QH+Q5G\, Serrekunda\, 00000\, Gambia
CATEGORIES:concert,Culture,December,Hunting,International,night party
ATTACH;FMTTYPE=image/jpeg:https://motherland-gambia.com/wp-content/uploads/2025/12/Photo-from-Modou-Lamin-Age-Almusaf-Sowe-6.jpg
END:VEVENT
END:VCALENDAR