BEGIN:VCALENDAR
VERSION:2.0
PRODID:-//Motherland Events Center - ECPv6.15.20//NONSGML v1.0//EN
CALSCALE:GREGORIAN
METHOD:PUBLISH
X-WR-CALNAME:Motherland Events Center
X-ORIGINAL-URL:https://motherland-gambia.com
X-WR-CALDESC:Events for Motherland Events Center
REFRESH-INTERVAL;VALUE=DURATION:PT1H
X-Robots-Tag:noindex
X-PUBLISHED-TTL:PT1H
BEGIN:VTIMEZONE
TZID:Africa/Banjul
BEGIN:STANDARD
TZOFFSETFROM:+0000
TZOFFSETTO:+0000
TZNAME:GMT
DTSTART:20250101T000000
END:STANDARD
END:VTIMEZONE
BEGIN:VEVENT
DTSTART;TZID=Africa/Banjul:20260318T210000
DTEND;TZID=Africa/Banjul:20260319T053000
DTSTAMP:20260420T154857
CREATED:20260309T132233Z
LAST-MODIFIED:20260309T132235Z
UID:5792-1773867600-1773898200@motherland-gambia.com
SUMMARY:PARTY EMPIRE 2.0: KORITEH PARTY
DESCRIPTION:This Koriteh\, the celebration doesn’t stop! Join us at Motherland for the ultimate party experience as Goat Nation x AK1 Entertainment bring you Party Empire 2.0 on the 2nd and 3rd day of Koriteh. Expect electrifying music\, top vibes\, and an unforgettable night with the hottest crowd in town. \n🎟 Tickets:\nBefore Midnight – D300\nAfter Midnight – D500\nVIP – D700\nVIP Table – D10\,000 \nPull up with your crew and let’s make Koriteh legendary! 💃🏾🔥 \n#PartyEmpire #KoritehVibes #MotherlandExperience
URL:https://motherland-gambia.com/event/party-empire-2-0-koriteh-party/
LOCATION:Motherland\, Motherland\, C7QH+Q5G\, Serrekunda\, 00000\, Gambia
CATEGORIES:afro,afrobeat,Amapiano,clubbing,concert,Culture,dancehall,December,Hip-Hop,Hunting,International,night party,party,Reggae,Sound clash,summer,VIP Saturday
ATTACH;FMTTYPE=image/jpeg:https://motherland-gambia.com/wp-content/uploads/2026/03/IMG_3767-scaled.jpg
END:VEVENT
BEGIN:VEVENT
DTSTART;TZID=Africa/Banjul:20260328T210000
DTEND;TZID=Africa/Banjul:20260328T210000
DTSTAMP:20260420T154857
CREATED:20260309T152630Z
LAST-MODIFIED:20260309T152818Z
UID:5797-1774731600-1774731600@motherland-gambia.com
SUMMARY:TERIYA CONCERT PART 2
DESCRIPTION:Get ready\, music lovers! The sensational Teriya is back for Part 2 of an unforgettable concert experience at Motherland Event Centre\, brought to you by ST Da Gambian Dream & Motherland Event Center. \n📅 Date: Saturday\, 28th March\n⏰ Time: Doors open before 1 AM\n💰 Tickets: \n\nD400 before 1 AM\nD500 after 1 AM\nVIP Table: D10K\n\n🎤 Groove to the hottest hits and celebrate good vibes all night long! Don’t miss your chance to witness Teriya live\, in style. \n📞 R.S.V.P / Info: +220 200 8050 \n#TeriyaConcert #LiveInGambia #MusicVibes #NightOfTheYear #MotherlandEventCenter
URL:https://motherland-gambia.com/event/teriya-concert-part-2-live-at-motherland/
LOCATION:Motherland\, Motherland\, C7QH+Q5G\, Serrekunda\, 00000\, Gambia
CATEGORIES:afro,afrobeat,Amapiano,clubbing,concert,Culture,dancehall,December,gambino,Hip-Hop,Hunting,International,night party,party,Reggae,Sound clash,summer,VIP Saturday
ATTACH;FMTTYPE=image/jpeg:https://motherland-gambia.com/wp-content/uploads/2026/03/Photo-from-Modou-Lamin-Age-Almusaf-Sowe-43.jpg
END:VEVENT
BEGIN:VEVENT
DTSTART;TZID=Africa/Banjul:20260404T150000
DTEND;TZID=Africa/Banjul:20260404T190000
DTSTAMP:20260420T154857
CREATED:20260220T172910Z
LAST-MODIFIED:20260220T172911Z
UID:5789-1775314800-1775329200@motherland-gambia.com
SUMMARY:Book Launch & National Conference on Education
DESCRIPTION:Motherland Event Centre in partnership with the Read Gambia Foundation proudly presents a dual national programme bringing together scholars\, writers\, educators\, youth leaders\, and cultural practitioners for an intellectually rich and historically significant occasion: \n1. A National Youth Conference on Literature & Education \n2. The Official Launch of They Are Born by Modou Lamin Age-Almusaf Sowe \nThis event celebrates literature as a force for youth empowerment\, national consciousness\, and cultural continuity in The Gambia and across Africa. \nReserve your seats before 1st March 2026 by contacting +220 2008040. Once the hall reaches full capacity\, we will no longer accept seat reservations.
URL:https://motherland-gambia.com/event/book-launch-national-conference-on-education/
LOCATION:Motherland\, Motherland\, C7QH+Q5G\, Serrekunda\, 00000\, Gambia
CATEGORIES:Culture,International,VIP Saturday
ATTACH;FMTTYPE=image/jpeg:https://motherland-gambia.com/wp-content/uploads/2026/02/637373868_26779377688331878_2125971656552534021_n.jpg
ORGANIZER;CN="Read Gambia Foundation by Mr. Sowe":MAILTO:readgambia@gmail.com
END:VEVENT
END:VCALENDAR