BEGIN:VCALENDAR
VERSION:2.0
PRODID:-//Motherland Events Center - ECPv6.15.20//NONSGML v1.0//EN
CALSCALE:GREGORIAN
METHOD:PUBLISH
X-WR-CALNAME:Motherland Events Center
X-ORIGINAL-URL:https://motherland-gambia.com
X-WR-CALDESC:Events for Motherland Events Center
REFRESH-INTERVAL;VALUE=DURATION:PT1H
X-Robots-Tag:noindex
X-PUBLISHED-TTL:PT1H
BEGIN:VTIMEZONE
TZID:Africa/Banjul
BEGIN:STANDARD
TZOFFSETFROM:+0000
TZOFFSETTO:+0000
TZNAME:GMT
DTSTART:20240101T000000
END:STANDARD
END:VTIMEZONE
BEGIN:VEVENT
DTSTART;TZID=Africa/Banjul:20251201T150000
DTEND;TZID=Africa/Banjul:20251201T190000
DTSTAMP:20260420T190200
CREATED:20251223T182421Z
LAST-MODIFIED:20251223T182421Z
UID:5727-1764601200-1764615600@motherland-gambia.com
SUMMARY:READ GAMBIA READ-A-THON 2025
DESCRIPTION:The Read Gambia Read-a-thon 2025 is a powerful national literacy initiative aimed at promoting a strong reading culture\, education\, and intellectual excellence across The Gambia. This landmark event brings together readers\, educators\, creatives\, public figures\, and institutions in a shared mission to inspire learning and lifelong reading habits. \n🏆 The winner will represent The Gambia at the Guinness World Record Reading Marathon\, placing the nation on the global literacy stage. \nSupported by key partners and media houses\, the Read-a-thon celebrates books\, knowledge\, and national pride while empowering young people to dream bigger through education. \n📖 Join the movement.\n📚 Read more. Learn more. Represent Gambia. \n#ReadGambia #ReadAthon2025 #LiteracyForDevelopment #EducationFirst #GuinnessWorldRecord #TheGambiaReads
URL:https://motherland-gambia.com/event/read-gambia-read-a-thon-2025/
LOCATION:Motherland\, Motherland\, C7QH+Q5G\, Serrekunda\, 00000\, Gambia
CATEGORIES:Culture,December,International
ATTACH;FMTTYPE=image/jpeg:https://motherland-gambia.com/wp-content/uploads/2025/12/Photo-from-Modou-Lamin-Age-Almusaf-Sowe-11.jpg
ORGANIZER;CN="Read Gambia Foundation by Mr. Sowe":MAILTO:readgambia@gmail.com
END:VEVENT
BEGIN:VEVENT
DTSTART;TZID=Africa/Banjul:20251129T220000
DTEND;TZID=Africa/Banjul:20251130T060000
DTSTAMP:20260420T190200
CREATED:20250711T205158Z
LAST-MODIFIED:20251223T133009Z
UID:5623-1764453600-1764482400@motherland-gambia.com
SUMMARY:Goudi Facemask 2.0
DESCRIPTION:Dollar💸💸 movement present\n🎭✨ GOUDI FACEMASK 2.0 ✨🎭\n🔥 The Most Anticipated Night in Motherland History! 🔥 \n*Where Elegance Meets Mystery – A night of glam\, passion\, and masks!\nJoin us for an unforgettable experience:*\n💃 Red Carpet\n🎭 Free Designer Masks for the First 100\n📸 Free Photoshoots\n🌍 Powered by international vibes — Spain 🇪🇸 x Gambia 🇬🇲 \nBacked by (AGP) Association of the Gam Promoters | Sponsored by FACE 2 FACE\n📍 Motherland | 🗓 Nov 29th \n👑 This isn’t just a party — it’s a MOVEMENT!
URL:https://motherland-gambia.com/event/goudi-facemask-2-0/
LOCATION:Motherland\, Motherland\, C7QH+Q5G\, Serrekunda\, 00000\, Gambia
CATEGORIES:Amapiano,clubbing,International,night party
ATTACH;FMTTYPE=image/jpeg:https://motherland-gambia.com/wp-content/uploads/2025/07/dollar.jpeg
END:VEVENT
BEGIN:VEVENT
DTSTART;TZID=Africa/Banjul:20251011T220000
DTEND;TZID=Africa/Banjul:20251012T060000
DTSTAMP:20260420T190200
CREATED:20250814T185945Z
LAST-MODIFIED:20251223T133009Z
UID:5652-1760220000-1760248800@motherland-gambia.com
SUMMARY:ONE4LL | PART 2
DESCRIPTION:Come witness history as one of the best performing artist in West Africa is set to rock the Motherland’s stage.
URL:https://motherland-gambia.com/event/jizzle-one4ll-part-2/
LOCATION:Motherland\, Motherland\, C7QH+Q5G\, Serrekunda\, 00000\, Gambia
CATEGORIES:concert,Culture,gambino
ATTACH;FMTTYPE=image/jpeg:https://motherland-gambia.com/wp-content/uploads/2025/08/jizzle-14ll-1.jpg
END:VEVENT
BEGIN:VEVENT
DTSTART;TZID=Africa/Banjul:20250906T223000
DTEND;TZID=Africa/Banjul:20250907T060000
DTSTAMP:20260420T190200
CREATED:20250827T203546Z
LAST-MODIFIED:20251223T133009Z
UID:5663-1757197800-1757224800@motherland-gambia.com
SUMMARY:Outlaws 2.0
DESCRIPTION:Sylva nyow naa dingen ko yeg!\nCome witness a night to remember in Motherland.\nDJ Sylva on the stage so there’s no need to say much.
URL:https://motherland-gambia.com/event/outlaws-2-0/
LOCATION:Motherland\, Motherland\, C7QH+Q5G\, Serrekunda\, 00000\, Gambia
CATEGORIES:Amapiano,clubbing
ATTACH;FMTTYPE=image/jpeg:https://motherland-gambia.com/wp-content/uploads/2025/08/outlaws.jpg
END:VEVENT
BEGIN:VEVENT
DTSTART;TZID=Africa/Banjul:20250830T220000
DTEND;TZID=Africa/Banjul:20250831T060000
DTSTAMP:20260420T190200
CREATED:20250827T200848Z
LAST-MODIFIED:20251223T133009Z
UID:5656-1756591200-1756620000@motherland-gambia.com
SUMMARY:All Black Party
DESCRIPTION:It’s the same All black party with the littiness\, settings and all but don’t you dare to forget that it’s summer and it’s in the Motherland
URL:https://motherland-gambia.com/event/all-black-party/
LOCATION:Motherland\, Motherland\, C7QH+Q5G\, Serrekunda\, 00000\, Gambia
CATEGORIES:clubbing,Culture
ATTACH;FMTTYPE=image/jpeg:https://motherland-gambia.com/wp-content/uploads/2025/08/IMG_7831.jpg
END:VEVENT
BEGIN:VEVENT
DTSTART;TZID=Africa/Banjul:20250829T220000
DTEND;TZID=Africa/Banjul:20250830T060000
DTSTAMP:20260420T190200
CREATED:20250827T202719Z
LAST-MODIFIED:20251223T133009Z
UID:5659-1756504800-1756533600@motherland-gambia.com
SUMMARY:Giddem Party
DESCRIPTION:is the youngest and the baddest producer’s birthday bash. The man himself Diamond Giddem.\nWe call it the Giddem Party.
URL:https://motherland-gambia.com/event/giddem-party/
LOCATION:Motherland\, Motherland\, C7QH+Q5G\, Serrekunda\, 00000\, Gambia
ATTACH;FMTTYPE=image/png:https://motherland-gambia.com/wp-content/uploads/2025/08/giddem-1-scaled.png
END:VEVENT
BEGIN:VEVENT
DTSTART;TZID=Africa/Banjul:20250823T220000
DTEND;TZID=Africa/Banjul:20250824T060000
DTSTAMP:20260420T190200
CREATED:20250726T153637Z
LAST-MODIFIED:20251223T133009Z
UID:5641-1755986400-1756015200@motherland-gambia.com
SUMMARY:Uptown Reggae Party
DESCRIPTION:A night of vibes\, luxury atmosphere and luxury music.
URL:https://motherland-gambia.com/event/uptown-reggae-party/
LOCATION:Motherland\, Motherland\, C7QH+Q5G\, Serrekunda\, 00000\, Gambia
CATEGORIES:party,Reggae
ATTACH;FMTTYPE=image/jpeg:https://motherland-gambia.com/wp-content/uploads/2025/07/IMG_2121.jpeg
END:VEVENT
BEGIN:VEVENT
DTSTART;TZID=Africa/Banjul:20250815T220000
DTEND;TZID=Africa/Banjul:20250816T060000
DTSTAMP:20260420T190200
CREATED:20250726T152909Z
LAST-MODIFIED:20251223T133009Z
UID:5637-1755295200-1755324000@motherland-gambia.com
SUMMARY:Sang Marie - Hunting & Night Clubbing
DESCRIPTION:A night where culture and elegance meet. Come witness a night to remember at Motherland and Uchee is the special guest so you know it’s already lit.
URL:https://motherland-gambia.com/event/sang-marie-hunting-night-clubbing/
LOCATION:Motherland\, Motherland\, C7QH+Q5G\, Serrekunda\, 00000\, Gambia
CATEGORIES:clubbing,Culture,Hunting
ATTACH;FMTTYPE=image/jpeg:https://motherland-gambia.com/wp-content/uploads/2025/07/a0e5200e-d787-41aa-96c9-43dfbd3e73db.jpeg
END:VEVENT
BEGIN:VEVENT
DTSTART;TZID=Africa/Banjul:20250809T220000
DTEND;TZID=Africa/Banjul:20250810T060000
DTSTAMP:20260420T190200
CREATED:20250726T154615Z
LAST-MODIFIED:20251223T133009Z
UID:5645-1754776800-1754805600@motherland-gambia.com
SUMMARY:VIP Saturday - Part 2
DESCRIPTION:Come witness the second Saturday of Motherland’s luxury Saturdays. \nDress good\, smell good and feel good.
URL:https://motherland-gambia.com/event/vip-saturday-part-2/
LOCATION:Motherland\, Motherland\, C7QH+Q5G\, Serrekunda\, 00000\, Gambia
CATEGORIES:VIP Saturday
ATTACH;FMTTYPE=image/jpeg:https://motherland-gambia.com/wp-content/uploads/2025/07/f9338822-5026-49ff-af35-42717a68421f.jpeg
END:VEVENT
BEGIN:VEVENT
DTSTART;TZID=Africa/Banjul:20250808T220000
DTEND;TZID=Africa/Banjul:20250809T060000
DTSTAMP:20260420T190200
CREATED:20250714T123730Z
LAST-MODIFIED:20251223T133009Z
UID:5631-1754690400-1754719200@motherland-gambia.com
SUMMARY:Nigerian x Sierra Leone Night Out
DESCRIPTION:You know it’s already a hit. Come witness history in Motherland Gambia. \nNaija Salone Link-Up
URL:https://motherland-gambia.com/event/nigerian-x-sierra-leone-night-out/
LOCATION:Motherland\, Motherland\, C7QH+Q5G\, Serrekunda\, 00000\, Gambia
CATEGORIES:afro,clubbing,summer
ATTACH;FMTTYPE=image/png:https://motherland-gambia.com/wp-content/uploads/2025/07/IMG_2124.png
END:VEVENT
BEGIN:VEVENT
DTSTART;TZID=Africa/Banjul:20250802T220000
DTEND;TZID=Africa/Banjul:20250803T060000
DTSTAMP:20260420T190200
CREATED:20250714T123329Z
LAST-MODIFIED:20251223T133009Z
UID:5628-1754172000-1754200800@motherland-gambia.com
SUMMARY:VIP Saturday
DESCRIPTION:Come have the VIP Motherland Experience on the 9th August with the hottest DJ’s in town.\nSummer time we say.
URL:https://motherland-gambia.com/event/vip-saturday/
LOCATION:Motherland\, Motherland\, C7QH+Q5G\, Serrekunda\, 00000\, Gambia
CATEGORIES:clubbing,gambino,night party,summer
ATTACH;FMTTYPE=image/jpeg:https://motherland-gambia.com/wp-content/uploads/2025/07/vip.jpeg
END:VEVENT
BEGIN:VEVENT
DTSTART;TZID=Africa/Banjul:20250726T220000
DTEND;TZID=Africa/Banjul:20250727T060000
DTSTAMP:20260420T190200
CREATED:20250706T004359Z
LAST-MODIFIED:20251223T133009Z
UID:5612-1753567200-1753596000@motherland-gambia.com
SUMMARY:B.S Graduation Party
DESCRIPTION:B.S Upper and Senior Secondary party live inna Motherland
URL:https://motherland-gambia.com/event/b-s-graduation-party/
LOCATION:Motherland\, Motherland\, C7QH+Q5G\, Serrekunda\, 00000\, Gambia
CATEGORIES:clubbing,gambino,night party
ATTACH;FMTTYPE=image/jpeg:https://motherland-gambia.com/wp-content/uploads/2025/07/grad.jpeg
END:VEVENT
BEGIN:VEVENT
DTSTART;TZID=Africa/Banjul:20250716T220000
DTEND;TZID=Africa/Banjul:20250717T060000
DTSTAMP:20260420T190200
CREATED:20250706T003543Z
LAST-MODIFIED:20251223T133009Z
UID:5609-1752703200-1752732000@motherland-gambia.com
SUMMARY:Reggae Night
DESCRIPTION:Come lively up yourself at Reggae Night\, every Wednesday inna Motherland.
URL:https://motherland-gambia.com/event/reggae-night/
LOCATION:Motherland\, Motherland\, C7QH+Q5G\, Serrekunda\, 00000\, Gambia
CATEGORIES:clubbing,Reggae
ATTACH;FMTTYPE=image/jpeg:https://motherland-gambia.com/wp-content/uploads/2025/07/reggae-1.jpeg
END:VEVENT
END:VCALENDAR